BEGIN:VCALENDAR
VERSION:2.0
PRODID:-//Nordwald Space - Co-Working und Living - ECPv6.15.20//NONSGML v1.0//EN
CALSCALE:GREGORIAN
METHOD:PUBLISH
X-WR-CALNAME:Nordwald Space - Co-Working und Living
X-ORIGINAL-URL:https://nordwaldspace.de
X-WR-CALDESC:Veranstaltungen für Nordwald Space - Co-Working und Living
REFRESH-INTERVAL;VALUE=DURATION:PT1H
X-Robots-Tag:noindex
X-PUBLISHED-TTL:PT1H
BEGIN:VTIMEZONE
TZID:Europe/Berlin
BEGIN:DAYLIGHT
TZOFFSETFROM:+0100
TZOFFSETTO:+0200
TZNAME:CEST
DTSTART:20250330T010000
END:DAYLIGHT
BEGIN:STANDARD
TZOFFSETFROM:+0200
TZOFFSETTO:+0100
TZNAME:CET
DTSTART:20251026T010000
END:STANDARD
BEGIN:DAYLIGHT
TZOFFSETFROM:+0100
TZOFFSETTO:+0200
TZNAME:CEST
DTSTART:20260329T010000
END:DAYLIGHT
BEGIN:STANDARD
TZOFFSETFROM:+0200
TZOFFSETTO:+0100
TZNAME:CET
DTSTART:20261025T010000
END:STANDARD
BEGIN:DAYLIGHT
TZOFFSETFROM:+0100
TZOFFSETTO:+0200
TZNAME:CEST
DTSTART:20270328T010000
END:DAYLIGHT
BEGIN:STANDARD
TZOFFSETFROM:+0200
TZOFFSETTO:+0100
TZNAME:CET
DTSTART:20271031T010000
END:STANDARD
END:VTIMEZONE
BEGIN:VEVENT
DTSTART;TZID=Europe/Berlin:20260316T190000
DTEND;TZID=Europe/Berlin:20260316T210000
DTSTAMP:20260421T104916
CREATED:20260315T033452Z
LAST-MODIFIED:20260315T034604Z
UID:4355-1773687600-1773694800@nordwaldspace.de
SUMMARY:Öffentliches Mitgliedertreffen - Frischer Wind Nordhalben e. V.
DESCRIPTION:Am 16. März 2026 um 19 Uhr lädt Frischer Wind Nordhalben e. V. zu einem öffentlichen Mitgliedertreffen in den Nordwald Space ein. Das Treffen richtet sich nicht nur an Mitglieder\, sondern auch an alle\, die sich für die Entwicklung von Nordhalben interessieren und eigene Ideen einbringen möchten. \nIm Mittelpunkt des Abends stehen zentrale Fragen zur bisherigen Vereinsarbeit und zum weiteren Weg im Jahr 2026. Gemeinsam soll darauf geschaut werden\, was bereits angestoßen\, umgesetzt oder vorbereitet wurde – und welche Projekte\, Themen und Chancen in den kommenden Monaten anstehen. Auch der Austausch neuer Ideen soll an diesem Abend bewusst Raum bekommen. \nEin weiterer Schwerpunkt wird die Planung möglicher Fördermittel und zukünftiger Vorhaben sein. Gerade für ehrenamtliche Projekte ist es wichtig\, frühzeitig zu überlegen\, welche Maßnahmen realistisch umsetzbar sind und wie sich diese finanziell und organisatorisch auf stabile Beine stellen lassen. Das Treffen soll deshalb nicht nur informieren\, sondern auch vernetzen und zur Mitarbeit motivieren. \nMit dem offenen Format setzt der Verein ein klares Zeichen: Zukunft für Nordhalben entsteht nicht im kleinen Kreis\, sondern durch Austausch\, Beteiligung und gemeinsames Nachdenken. Wer sich einbringen\, zuhören oder einfach einen Eindruck von der aktuellen Vereinsarbeit gewinnen möchte\, ist herzlich willkommen. \nSchaut vorbei. Das öffentliche Mitgliedertreffen bietet eine schöne Gelegenheit\, gemeinsam Ideen weiterzuentwickeln und neue Impulse für Nordhalben zu setzen.
URL:https://nordwaldspace.de/event/oeffentliches-mitgliedertreffen-frischer-wind-nordhalben-03-2026/
LOCATION:Nordwald Space\, Kronacher Str. 9\, Nordhalben\, Bayern\, 96365\, Deutschland
CATEGORIES:Nordwald Space
ATTACH;FMTTYPE=image/jpeg:https://nordwaldspace.de/ms/wp-content/uploads/16032026-Frischer-Wind.jpeg
END:VEVENT
END:VCALENDAR